Workbook

Sheet Overview & Explanation
A1: Note: Use care not to delete, hide or reorder workbook tabs (worksheets) in this workbook.
A2: . | B2: . | C2: . | D2: . | E2: . | F2: . | G2: . | H2: . | I2: . | J2: . | K2: . | L2: . | M2: . | N2: . | O2: . | P2: . | Q2: . | R2: . | S2: . | T2: . | U2: . | V2: . | W2: . | X2: . | Y2: . | Z2: .
A39: Week 3 Analysis Adjustments Assignment Grading Rubric
A40: The facilitator will grade this assignment, assigning up to 100 points for it, as follows:
A41: Financial statements analysis adjustments are properly identified from the Annual Report on Form 10-K and the supporting analysis, computations, and presentation is complete, correct, concise, and clear:
A42: Type of Analysis Adjustment | B42: Maximum | C42: Earned | D42: Worksheet Tab Label:
A43: Operating Lease Commitments | B43: 20 | C43: 18 | D43: Oper Lease Adjust 5
A44: Financial Elements of Pension Costs | B44: 10 | C44: 10 | D44: Pension Cost Analysis Adjust
A45: Inventory Cost-Flow Assumption | B45: 15 | C45: 14 | D45: Invent Cost-Flow Analysis Adj
A46: Noncancellable Commitments | B46: 5 | C46: 5 | D46: Noncancel Commit Analysis Adj
A47: Guaranteed Unconsolidated Debt | B47: 0 | C47: 0 | D47: Guar Uncons Debt Analysis Adj
A48: Capitalized Interest | B48: 5 | C48: 5 | D48: Capitalized Interest Analysis Adj
A49: Impairment or Restructuring Charges | B49: 20 | C49: 17 | D49: Impair, Restruct Analysis Adj
A50: Early Retirement, Restructuring Debt | B50: 10 | C50: 9 | D50: Debt Restruct Analysis Adj
A51: Gains on Investments or PP&E | B51: 15 | C51: 12 | D51: Sales Invest, PP&E Analysis Adj
A52: Total points | B52: =SUM(B43:B51) -> 100 | C52: =SUM(C43:C51) -> 90

Sheet BS Analysis Adjustments
A1: INPUT US dollar amounts IN MILLIONS | B1: 2011 | L1: =B1+1 -> 2012 | V1: =L1+1 -> 2013 | AF1: =V1+1 -> 2014 | AP1: =AF1+1 -> 2015 | BE1: . | BF1: . | BG1: . | BH1: . | BI1: . | BJ1: . | BK1: . | BL1: . | BM1: . | BN1: . | BO1: . | BP1: . | BQ1: . | BR1: . | BS1: . | BT1: . | BU1: . | BV1: . | BW1: . | BX1: . | BY1: . | BZ1: .
B2: Audited | C2: Analysis Adjustment (See explanations below) | K2: Adjusted | L2: Audited | M2: Analysis Adjustment (See explanations below) | U2: Adjusted | V2: Audited | W2: Analysis Adjustment (See explanations below) | AE2: Adjusted | AF2: Audited | AG2: Analysis Adjustment (See explanations below) | AO2: Adjusted | AP2: Audited | AQ2: Analysis Adjustment (See explanations below) | AY2: Adjusted | AZ2: Adjusted balances (used for financial analysis)
B3: balance | C3: (A) | D3: (B) | E3: (C) | F3: (D) | G3: (E) | H3: (F) | I3: (G) | J3: (H) | K3: balance | L3: balance | M3: (A) | N3: (B) | O3: (C) | P3: (D) | Q3: (E) | R3: (F) | S3: (G) | T3: (H) | U3: balance | V3: balance | W3: (A) | X3: (B) | Y3: (C) | Z3: (D) | AA3: (E) | AB3: (F) | AC3: (G) | AD3: (H) | AE3: balance | AF3: balance | AG3: (A) | AH3: (B) | AI3: (C) | AJ3: (D) | AK3: (E) | AL3: (F) | AM3: (G) | AN3: (H) | AO3: balance | AP3: balance | AQ3: (A) | AR3: (B) | AS3: (C) | AT3: (D) | AU3: (E) | AV3: (F) | AW3: (G) | AX3: (H) | AY3: balance | AZ3: =B1 -> 2011 | BA3: =AZ3+1 -> 2012 | BB3: =BA3+1 -> 2013 | BC3: =BB3+1 -> 2014 | BD3: =BC3+1 -> 2015
A4: Assets
A5: Current assets
A6: Cash and cash equivalents | B6: 1877 | K6: =SUM(B6:J6) -> 1877 | L6: 1285 | U6: =SUM(L6:T6) -> 1285 | V6: 1194 | AE6: =SUM(V6:AD6) -> 1194 | AF6: 827 | AO6: =SUM(AF6:AN6) -> 827 | AP6: 595 | AY6: =SUM(AP6:AX6) -> 595 | AZ6: =K6 -> 1877 | BA6: =U6 -> 1285 | BB6: =AE6 -> 1194 | BC6: =AO6 -> 827 | BD6: =AY6 -> 595
A7: Investment securities AFS | B7: 0 | K7: =SUM(B7:J7) -> 0 | L7: 0 | U7: =SUM(L7:T7) -> 0 | V7: 0 | AE7: =SUM(V7:AD7) -> 0 | AF7: 0 | AO7: =SUM(AF7:AN7) -> 0 | AP7: 0 | AY7: =SUM(AP7:AX7) -> 0 | AZ7: =K7 -> 0 | BA7: =U7 -> 0 | BB7: =AE7 -> 0 | BC7: =AO7 -> 0 | BD7: =AY7 -> 0
A8: AR, gross | B8: 2148 | K8: =SUM(B8:J8) -> 2148 | L8: 2214 | U8: =SUM(L8:T8) -> 2214 | V8: 2257 | AE8: =SUM(V8:AD8) -> 2257 | AF8: 2381 | AO8: =SUM(AF8:AN8) -> 2381 | AP8: 197 | AY8: =SUM(AP8:AX8) -> 197 | AZ8: =K8 -> 2148 | BA8: =U8 -> 2214 | BB8: =AE8 -> 2257 | BC8: =AO8 -> 2381 | BD8: =AY8 -> 197
A9: Less: Allowance for bad debts | B9: -115 | K9: =SUM(B9:J9) -> -115 | L9: -85 | U9: =SUM(L9:T9) -> -85 | V9: -80 | AE9: =SUM(V9:AD9) -> -80 | AF9: -75 | AO9: =SUM(AF9:AN9) -> -75 | AP9: -1 | AY9: =SUM(AP9:AX9) -> -1 | AZ9: =K9 -> -115 | BA9: =U9 -> -85 | BB9: =AE9 -> -80 | BC9: =AO9 -> -75 | BD9: =AY9 -> -1
A10: AR, net | B10: =SUM(B8:B9) -> 2033 | C10: =SUM(C8:C9) -> 0 | D10: =SUM(D8:D9) -> 0 | E10: =SUM(E8:E9) -> 0 | F10: =SUM(F8:F9) -> 0 | G10: =SUM(G8:G9) -> 0 | H10: =SUM(H8:H9) -> 0 | I10: =SUM(I8:I9) -> 0 | ... AY10: =SUM(AY8:AY9) -> 196 | AZ10: =K10 -> 2033 | BA10: =U10 -> 2129 | BB10: =AE10 -> 2177 | BC10: =AO10 -> 2306 | BD10: =AY10 -> 196
A11: Inventory (LOCOM, retail average cost) | B11: 1148 | K11: =SUM(B11:J11) -> 1148 | L11: 1360 | U11: =SUM(L11:T11) -> 1360 | V11: 1531 | AE11: =SUM(V11:AD11) -> 1531 | AF11: 1733 | AO11: =SUM(AF11:AN11) -> 1733 | AP11: 1945 | AY11: =SUM(AP11:AX11) -> 1945 | AZ11: =K11 -> 1148 | BA11: =U11 -> 1360 | BB11: =AE11 -> 1531 | BC11: =AO11 -> 1733 | BD11: =AY11 -> 1945
A12: DIT assets–current | B12: 220 | K12: =SUM(B12:J12) -> 220 | L12: 227 | U12: =SUM(L12:T12) -> 227 | V12: 239 | AE12: =SUM(V12:AD12) -> 239 | AF12: 256 | AO12: =SUM(AF12:AN12) -> 256 | AP12: 0 | AY12: =SUM(AP12:AX12) -> 0 | AZ12: =K12 -> 220 | BA12: =U12 -> 227 | BB12: =AE12 -> 239 | BC12: =AO12 -> 256 | BD12: =AY12 -> 0
A13: Other current assets | B13: 282 | D13: 1273 | K13: =SUM(B13:J13) -> 1555 | L13: 80 | N13: 1429 | U13: =SUM(L13:T13) -> 1509 | V13: 87 | X13: 1450 | AE13: =SUM(V13:AD13) -> 1537 | AF13: 102 | AH13: 1809 | AO13: =SUM(AF13:AN13) -> 1911 | AP13: 278 | AR13: 1691 | AY13: =SUM(AP13:AX13) -> 1969 | AZ13: =K13 -> 1555 | BA13: =U13 -> 1509 | BB13: =AE13 -> 1537 | BC13: =AO13 -> 1911 | BD13: =AY13 -> 1969
A14: Total current assets | B14: =SUM(B6:B7,B10:B13) -> 5560 | C14: =SUM(C6:C7,C10:C13) -> 0 | D14: =SUM(D6:D7,D10:D13) -> 1273 | E14: =SUM(E6:E7,E10:E13) -> 0 | F14: =SUM(F6:F7,F10:F13) -> 0 | G14: =SUM(G6:G7,G10:G13) -> 0 | H14: =SUM(H6:H7,H10:H13) -> 0 | I14: =SUM(I6:I7,I10:I13) -> 0 | ... AY14: =SUM(AY6:AY7,AY10:AY13) -> 4705 | AZ14: =K14 -> 6833 | BA14: =U14 -> 6510 | BB14: =AE14 -> 6678 | BC14: =AO14 -> 7033 | BD14: =AY14 -> 4705
A16: PP&E, at cost | B16: 6260 | C16: ='Oper Lease Adjust 2'!G82 -> 851 | K16: =SUM(B16:J16) -> 7111 | L16: 6643 | M16: ='Oper Lease Adjust 3'!G82 -> 1270 | U16: =SUM(L16:T16) -> 7913 | V16: 7344 | W16: ='Oper Lease Adjust 4'!G82 -> 1565 | AE16: =SUM(V16:AD16) -> 8909 | AF16: 8038 | AG16: ='Oper Lease Adjust 5'!G82 -> 1826 | AO16: =SUM(AF16:AN16) -> 9864 | AP16: 8843 | AQ16: ='Oper Lease Adjust 6'!G82 -> 2210 | AY16: =SUM(AP16:AX16) -> 11053 | AZ16: =K16 -> 7111 | BA16: =U16 -> 7913 | BB16: =AE16 -> 8909 | BC16: =AO16 -> 9864 | BD16: =AY16 -> 11053
A17: Less: Accumulated depreciation of PP&E | B17: -3791 | K17: =SUM(B17:J17) -> -3791 | L17: -4064 | U17: =SUM(L17:T17) -> -4064 | V17: -4395 | AE17: =SUM(V17:AD17) -> -4395 | AF17: -4698 | AO17: =SUM(AF17:AN17) -> -4698 | AP17: -5108 | AY17: =SUM(AP17:AX17) -> -5108 | AZ17: =K17 -> -3791 | BA17: =U17 -> -4064 | BB17: =AE17 -> -4395 | BC17: =AO17 -> -4698 | BD17: =AY17 -> -5108
A18: PP&E, net | B18: =SUM(B16:B17) -> 2469 | C18: =SUM(C16:C17) -> 851 | D18: =SUM(D16:D17) -> 0 | E18: =SUM(E16:E17) -> 0 | F18: =SUM(F16:F17) -> 0 | G18: =SUM(G16:G17) -> 0 | H18: =SUM(H16:H17) -> 0 | I18: =SUM(I16:I17) -> 0 | ... AY18: =SUM(AY16:AY17) -> 5945 | AZ18: =K18 -> 3320 | BA18: =U18 -> 3849 | BB18: =AE18 -> 4514 | BC18: =AO18 -> 5166 | BD18: =AY18 -> 5945
A19: Goodwill, net impairment write-downs | B19: 175 | K19: =SUM(B19:J19) -> 175 | L19: 175 | U19: =SUM(L19:T19) -> 175 | V19: 175 | AE19: =SUM(V19:AD19) -> 175 | AF19: 435 | AO19: =SUM(AF19:AN19) -> 435 | AP19: 435 | AY19: =SUM(AP19:AX19) -> 435 | AZ19: =K19 -> 175 | BA19: =U19 -> 175 | BB19: =AE19 -> 175 | BC19: =AO19 -> 435 | BD19: =AY19 -> 435
A20: Other intangibles, net amort., impairment | B20: 0 | K20: =SUM(B20:J20) -> 0 | L20: 0 | U20: =SUM(L20:T20) -> 0 | V20: 0 | AE20: =SUM(V20:AD20) -> 0 | AO20: =SUM(AF20:AN20) -> 0 | AP20: 0 | AY20: =SUM(AP20:AX20) -> 0 | AZ20: =K20 -> 0 | BA20: =U20 -> 0 | BB20: =AE20 -> 0 | BC20: =AO20 -> 0 | BD20: =AY20 -> 0
A21: DIT assets–noncurrent | B21: 0 | K21: =SUM(B21:J21) -> 0 | L21: 0 | U21: =SUM(L21:T21) -> 0 | V21: 0 | AE21: =SUM(V21:AD21) -> 0 | AO21: =SUM(AF21:AN21) -> 0 | AP21: 0 | AY21: =SUM(AP21:AX21) -> 0 | AZ21: =K21 -> 0 | BA21: =U21 -> 0 | BB21: =AE21 -> 0 | BC21: =AO21 -> 0 | BD21: =AY21 -> 0
A22: Other noncurrent assets | B22: 287 | D22: 170 | K22: =SUM(B22:J22) -> 457 | L22: 254 | N22: 472 | U22: =SUM(L22:T22) -> 726 | V22: 222 | X22: 675 | AE22: =SUM(V22:AD22) -> 897 | AF22: 246 | AH22: 283 | AO22: =SUM(AF22:AN22) -> 529 | AP22: 514 | AR22: 319 | AY22: =SUM(AP22:AX22) -> 833 | AZ22: =K22 -> 457 | BA22: =U22 -> 726 | BB22: =AE22 -> 897 | BC22: =AO22 -> 529 | BD22: =AY22 -> 833
A23: Total assets | B23: =SUM(B14,B18:B22) -> 8491 | C23: =SUM(C14,C18:C22) -> 851 | D23: =SUM(D14,D18:D22) -> 1443 | E23: =SUM(E14,E18:E22) -> 0 | F23: =SUM(F14,F18:F22) -> 0 | G23: =SUM(G14,G18:G22) -> 0 | H23: =SUM(H14,H18:H22) -> 0 | I23: =SUM(I14,I18:I22) -> 0 | ... AY23: =SUM(AY14,AY18:AY22) -> 11918 | AZ23: =K23 -> 10785 | BA23: =U23 -> 11260 | BB23: =AE23 -> 12264 | BC23: =AO23 -> 13163 | BD23: =AY23 -> 11918
A25: Liabilities and stockholders' equity
A26: Current liabilities
A27: AP | B27: 917 | K27: =SUM(B27:J27) -> 917 | L27: 1011 | U27: =SUM(L27:T27) -> 1011 | V27: 1263 | AE27: =SUM(V27:AD27) -> 1263 | AF27: 1328 | AO27: =SUM(AF27:AN27) -> 1328 | AP27: 1324 | AY27: =SUM(AP27:AX27) -> 1324 | AZ27: =K27 -> 917 | BA27: =U27 -> 1011 | BB27: =AE27 -> 1263 | BC27: =AO27 -> 1328 | BD27: =AY27 -> 1324
A28: Accrued liabilities | B28: 388 | D28: 1273 | K28: =SUM(B28:J28) -> 1661 | L28: 404 | N28: 1429 | U28: =SUM(L28:T28) -> 1833 | V28: 395 | X28: 1450 | AE28: =SUM(V28:AD28) -> 1845 | AF28: 416 | AH28: 1809 | AO28: =SUM(AF28:AN28) -> 2225 | AP28: 416 | AR28: 1691 | AY28: =SUM(AP28:AX28) -> 2107 | AZ28: =K28 -> 1661 | BA28: =U28 -> 1833 | BB28: =AE28 -> 1845 | BC28: =AO28 -> 2225 | BD28: =AY28 -> 2107
A29: Income taxes payable | B29: 0 | K29: =SUM(B29:J29) -> 0 | L29: 0 | U29: =SUM(L29:T29) -> 0 | V29: 0 | AE29: =SUM(V29:AD29) -> 0 | AO29: =SUM(AF29:AN29) -> 0 | AP29: 0 | AY29: =SUM(AP29:AX29) -> 0 | AZ29: =K29 -> 0 | BA29: =U29 -> 0 | BB29: =AE29 -> 0 | BC29: =AO29 -> 0 | BD29: =AY29 -> 0
A30: DIT liabilities–current | B30: 0 | K30: =SUM(B30:J30) -> 0 | L30: 0 | U30: =SUM(L30:T30) -> 0 | V30: 0 | AE30: =SUM(V30:AD30) -> 0 | AO30: =SUM(AF30:AN30) -> 0 | AP30: 0 | AY30: =SUM(AP30:AX30) -> 0 | AZ30: =K30 -> 0 | BA30: =U30 -> 0 | BB30: =AE30 -> 0 | BC30: =AO30 -> 0 | BD30: =AY30 -> 0
A31: Capital lease obligation–current portion | B31: 0 | C31: ='Oper Lease Adjust 2'!H83 -> 85 | K31: =SUM(B31:J31) -> 85 | L31: 0 | M31: ='Oper Lease Adjust 3'!H83 -> 97 | U31: =SUM(L31:T31) -> 97 | V31: 0 | W31: ='Oper Lease Adjust 4'!H83 -> 108 | AE31: =SUM(V31:AD31) -> 108 | AG31: ='Oper Lease Adjust 5'!H83 -> 130 | AO31: =SUM(AF31:AN31) -> 130 | AP31: 0 | AQ31: ='Oper Lease Adjust 6'!H83 -> 156 | AY31: =SUM(AP31:AX31) -> 156 | AZ31: =K31 -> 85 | BA31: =U31 -> 97 | BB31: =AE31 -> 108 | BC31: =AO31 -> 130 | BD31: =AY31 -> 156
A32: Bonds–current portion | B32: 0 | K32: =SUM(B32:J32) -> 0 | L32: 0 | U32: =SUM(L32:T32) -> 0 | V32: 0 | AE32: =SUM(V32:AD32) -> 0 | AO32: =SUM(AF32:AN32) -> 0 | AP32: 0 | AY32: =SUM(AP32:AX32) -> 0 | AZ32: =K32 -> 0 | BA32: =U32 -> 0 | BB32: =AE32 -> 0 | BC32: =AO32 -> 0 | BD32: =AY32 -> 0
A33: Notes and loans payable–current | B33: 506 | K33: =SUM(B33:J33) -> 506 | L33: 7 | U33: =SUM(L33:T33) -> 7 | V33: 7 | AE33: =SUM(V33:AD33) -> 7 | AF33: 8 | AO33: =SUM(AF33:AN33) -> 8 | AP33: 10 | AY33: =SUM(AP33:AX33) -> 10 | AZ33: =K33 -> 506 | BA33: =U33 -> 7 | BB33: =AE33 -> 7 | BC33: =AO33 -> 8 | BD33: =AY33 -> 10
A34: Other current liabilities | B34: 764 | K34: =SUM(B34:J34) -> 764 | L34: 804 | U34: =SUM(L34:T34) -> 804 | V34: 876 | AE34: =SUM(V34:AD34) -> 876 | AF34: 1048 | AO34: =SUM(AF34:AN34) -> 1048 | AP34: 1161 | AY34: =SUM(AP34:AX34) -> 1161 | AZ34: =K34 -> 764 | BA34: =U34 -> 804 | BB34: =AE34 -> 876 | BC34: =AO34 -> 1048 | BD34: =AY34 -> 1161
A35: Total current liabilities | B35: =SUM(B27:B34) -> 2575 | C35: =SUM(C27:C34) -> 85 | D35: =SUM(D27:D34) -> 1273 | E35: =SUM(E27:E34) -> 0 | F35: =SUM(F27:F34) -> 0 | G35: =SUM(G27:G34) -> 0 | H35: =SUM(H27:H34) -> 0 | I35: =SUM(I27:I34) -> 0 | ... AY35: =SUM(AY27:AY34) -> 4758 | AZ35: =K35 -> 3933 | BA35: =U35 -> 3752 | BB35: =AE35 -> 4099 | BC35: =AO35 -> 4739 | BD35: =AY35 -> 4758
A36: Notes and loans payable–noncurrent | B36: 3141 | K36: =SUM(B36:J36) -> 3141 | L36: 3124 | U36: =SUM(L36:T36) -> 3124 | V36: 3106 | AE36: =SUM(V36:AD36) -> 3106 | AF36: 3123 | AO36: =SUM(AF36:AN36) -> 3123 | AP36: 2795 | AY36: =SUM(AP36:AX36) -> 2795 | AZ36: =K36 -> 3141 | BA36: =U36 -> 3124 | BB36: =AE36 -> 3106 | BC36: =AO36 -> 3123 | BD36: =AY36 -> 2795
A37: Capital lease obligation–noncurrent | B37: 0 | C37: ='Oper Lease Adjust 2'!H84 -> 766 | K37: =SUM(B37:J37) -> 766 | L37: 0 | M37: ='Oper Lease Adjust 3'!H84 -> 1173 | U37: =SUM(L37:T37) -> 1173 | V37: 0 | W37: ='Oper Lease Adjust 4'!H84 -> 1457 | AE37: =SUM(V37:AD37) -> 1457 | AF37: 0 | AG37: ='Oper Lease Adjust 5'!H84 -> 1696 | AO37: =SUM(AF37:AN37) -> 1696 | AP37: 0 | AQ37: ='Oper Lease Adjust 6'!H84 -> 2054 | AY37: =SUM(AP37:AX37) -> 2054 | AZ37: =K37 -> 766 | BA37: =U37 -> 1173 | BB37: =AE37 -> 1457 | BC37: =AO37 -> 1696 | BD37: =AY37 -> 2054
A38: Bonds, net discount [or, plus premium] | B38: 0 | K38: =SUM(B38:J38) -> 0 | L38: 0 | U38: =SUM(L38:T38) -> 0 | V38: 0 | AE38: =SUM(V38:AD38) -> 0 | AO38: =SUM(AF38:AN38) -> 0 | AP38: 0 | AY38: =SUM(AP38:AX38) -> 0 | AZ38: =K38 -> 0 | BA38: =U38 -> 0 | BB38: =AE38 -> 0 | BC38: =AO38 -> 0 | BD38: =AY38 -> 0
A39: DIT liabilities–noncurrent | B39: 500 | K39: =SUM(B39:J39) -> 500 | L39: 485 | U39: =SUM(L39:T39) -> 485 | V39: 498 | AE39: =SUM(V39:AD39) -> 498 | AF39: 510 | AO39: =SUM(AF39:AN39) -> 510 | AP39: 540 | AY39: =SUM(AP39:AX39) -> 540 | AZ39: =K39 -> 500 | BA39: =U39 -> 485 | BB39: =AE39 -> 498 | BC39: =AO39 -> 510 | BD39: =AY39 -> 540
A40: Other noncurrent liabilities | B40: 319 | D40: 170 | K40: =SUM(B40:J40) -> 489 | L40: 341 | N40: 472 | U40: =SUM(L40:T40) -> 813 | V40: 349 | X40: 675 | AE40: =SUM(V40:AD40) -> 1024 | AF40: 372 | AH40: 283 | AO40: =SUM(AF40:AN40) -> 655 | AP40: 581 | AR40: 319 | AY40: =SUM(AP40:AX40) -> 900 | AZ40: =K40 -> 489 | BA40: =U40 -> 813 | BB40: =AE40 -> 1024 | BC40: =AO40 -> 655 | BD40: =AY40 -> 900
A41: Total noncurrent liabilities | B41: =SUM(B36:B40) -> 3960 | C41: =SUM(C36:C40) -> 766 | D41: =SUM(D36:D40) -> 170 | E41: =SUM(E36:E40) -> 0 | F41: =SUM(F36:F40) -> 0 | G41: =SUM(G36:G40) -> 0 | H41: =SUM(H36:H40) -> 0 | I41: =SUM(I36:I40) -> 0 | ... AY41: =SUM(AY36:AY40) -> 6289 | AZ41: =K41 -> 4896 | BA41: =U41 -> 5595 | BB41: =AE41 -> 6085 | BC41: =AO41 -> 5984 | BD41: =AY41 -> 6289
A42: Total liabilities | B42: =B35+B41 -> 6535 | C42: =C35+C41 -> 851 | D42: =D35+D41 -> 1443 | E42: =E35+E41 -> 0 | F42: =F35+F41 -> 0 | G42: =G35+G41 -> 0 | H42: =H35+H41 -> 0 | I42: =I35+I41 -> 0 | ... AY42: =AY35+AY41 -> 11047 | AZ42: =K42 -> 8829 | BA42: =U42 -> 9347 | BB42: =AE42 -> 10184 | BC42: =AO42 -> 10723 | BD42: =AY42 -> 11047
...

Sheet IS Analysis Adjustments
A1: INPUT US dollar amounts IN MILLIONS | B1: ='BS Analysis Adjustments'!B1 -> 2011 | L1: =B1+1 -> 2012 | V1: =L1+1 -> 2013 | AF1: =V1+1 -> 2014 | AP1: =AF1+1 -> 2015 | BE1: . | BF1: . | BG1: . | BH1: . | BI1: . | BJ1: . | BK1: . | BL1: . | BM1: . | BN1: . | BO1: . | BP1: . | BQ1: . | BR1: . | BS1: . | BT1: . | BU1: . | BV1: . | BW1: . | BX1: . | BY1: . | BZ1: .
B2: Audited | C2: Analysis Adjustment (See explanations below) | K2: Adjusted | L2: Audited | M2: Analysis Adjustment (See explanations below) | U2: Adjusted | V2: Audited | W2: Analysis Adjustment (See explanations below) | AE2: Adjusted | AF2: Audited | AG2: Analysis Adjustment (See explanations below) | AO2: Adjusted | AP2: Audited | AQ2: Analysis Adjustment (See explanations below) | AY2: Adjusted | AZ2: Adjusted balances (used for financial analysis)
B3: balance | C3: (A) | D3: (B) | E3: (C) | F3: (D) | G3: (E) | H3: (F) | I3: (G) | J3: (H) | K3: balance | L3: balance | M3: (A) | N3: (B) | O3: (C) | P3: (D) | Q3: (E) | R3: (F) | S3: (G) | T3: (H) | U3: balance | V3: balance | W3: (A) | X3: (B) | Y3: (C) | Z3: (D) | AA3: (E) | AB3: (F) | AC3: (G) | AD3: (H) | AE3: balance | AF3: balance | AG3: (A) | AH3: (B) | AI3: (C) | AJ3: (D) | AK3: (E) | AL3: (F) | AM3: (G) | AN3: (H) | AO3: balance | AP3: balance | AQ3: (A) | AR3: (B) | AS3: (C) | AT3: (D) | AU3: (E) | AV3: (F) | AW3: (G) | AX3: (H) | AY3: balance | AZ3: =B1 -> 2011 | BA3: =AZ3+1 -> 2012 | BB3: =BA3+1 -> 2013 | BC3: =BB3+1 -> 2014 | BD3: =BC3+1 -> 2015
A4: Sales, net returns and allowances | B4: 10877 | K4: =SUM(B4:J4) -> 10877 | L4: 12148 | U4: =SUM(L4:T4) -> 12148 | V4: 12540 | AE4: =SUM(V4:AD4) -> 12540 | AF4: 13506 | AO4: =SUM(AF4:AN4) -> 13506 | AP4: 14437 | AS4: -64 | AY4: =SUM(AP4:AX4) -> 14373 | AZ4: =K4 -> 10877 | BA4: =U4 -> 12148 | BB4: =AE4 -> 12540 | BC4: =AO4 -> 13506 | BD4: =AY4 -> 14373
A5: COS (LOCOM, retail average cost) | B5: 6592 | G5: 41 | K5: =SUM(B5:J5) -> 6633 | L5: 7432 | Q5: 83 | U5: =SUM(L5:T5) -> 7515 | V5: 7737 | AA5: 52 | AE5: =SUM(V5:AD5) -> 7789 | AF5: 8406 | AK5: 84 | AO5: =SUM(AF5:AN5) -> 8490 | AP5: 9168 | AU5: 125 | AY5: =SUM(AP5:AX5) -> 9293 | AZ5: =K5 -> 6633 | BA5: =U5 -> 7515 | BB5: =AE5 -> 7789 | BC5: =AO5 -> 8490 | BD5: =AY5 -> 9293
A6: Gross profit | B6: =B4-B5 -> 4285 | C6: =C4-C5 -> 0 | D6: =D4-D5 -> 0 | E6: =E4-E5 -> 0 | F6: =F4-F5 -> 0 | G6: =G4-G5 -> -41 | H6: =H4-H5 -> 0 | I6: =I4-I5 -> 0 | ... AY6: =AY4-AY5 -> 5080 | AZ6: =K6 -> 4244 | BA6: =U6 -> 4633 | BB6: =AE6 -> 4751 | BC6: =AO6 -> 5016 | BD6: =AY6 -> 5080
A7: Operating expenses
A8: SG&A expenses (excl D&A and advertising) | B8: 2537 | C8: =-'Oper Lease Adjust 1'!H97 -> -111 | H8: -7 | J8: -25 | K8: =SUM(B8:J8) -> 2394 | L8: 2781 | M8: =-'Oper Lease Adjust 2'!H97 -> -122 | R8: -7 | U8: =SUM(L8:T8) -> 2652 | V8: 2832 | W8: =-'Oper Lease Adjust 3'!H97 -> -153 | AB8: -7 | AE8: =SUM(V8:AD8) -> 2672 | AF8: 3074 | AG8: =-'Oper Lease Adjust 4'!H97 -> -177 | AL8: -8 | AO8: =SUM(AF8:AN8) -> 2889 | AP8: 3365 | AQ8: =-'Oper Lease Adjust 5'!H97 -> -210 | AS8: 32 | AV8: -7 | AX8: -59 | AY8: =SUM(AP8:AX8) -> 3121 | AZ8: =K8 -> 2394 | BA8: =U8 -> 2652 | BB8: =AE8 -> 2672 | BC8: =AO8 -> 2889 | BD8: =AY8 -> 3121
A9: R&D expense | B9: 0 | K9: =SUM(B9:J9) -> 0 | L9: 0 | U9: =SUM(L9:T9) -> 0 | V9: 0 | AE9: =SUM(V9:AD9) -> 0 | AF9: 0 | AO9: =SUM(AF9:AN9) -> 0 | AP9: 0 | AY9: =SUM(AP9:AX9) -> 0 | AZ9: =K9 -> 0 | BA9: =U9 -> 0 | BB9: =AE9 -> 0 | BC9: =AO9 -> 0 | BD9: =AY9 -> 0
A10: Advertising expense | B10: 128 | K10: =SUM(B10:J10) -> 128 | L10: 161 | U10: =SUM(L10:T10) -> 161 | V10: 167 | AE10: =SUM(V10:AD10) -> 167 | AF10: 195 | AO10: =SUM(AF10:AN10) -> 195 | AP10: 227 | AY10: =SUM(AP10:AX10) -> 227 | AZ10: =K10 -> 128 | BA10: =U10 -> 161 | BB10: =AE10 -> 167 | BC10: =AO10 -> 195 | BD10: =AY10 -> 227
A11: D&A | B11: 371 | C11: ='Oper Lease Adjust 1'!G95 -> 74 | K11: =SUM(B11:J11) -> 445 | L11: 429 | M11: ='Oper Lease Adjust 2'!G95 -> 77 | U11: =SUM(L11:T11) -> 506 | V11: 454 | W11: ='Oper Lease Adjust 3'!G95 -> 115 | AE11: =SUM(V11:AD11) -> 569 | AF11: 508 | AG11: ='Oper Lease Adjust 4'!G95 -> 142 | AO11: =SUM(AF11:AN11) -> 650 | AP11: 576 | AQ11: ='Oper Lease Adjust 5'!G95 -> 166 | AY11: =SUM(AP11:AX11) -> 742 | AZ11: =K11 -> 445 | BA11: =U11 -> 506 | BB11: =AE11 -> 569 | BC11: =AO11 -> 650 | BD11: =AY11 -> 742
A12: Other operating expenses (income) | B12: 0 | K12: =SUM(B12:J12) -> 0 | L12: 0 | U12: =SUM(L12:T12) -> 0 | V12: 0 | AE12: =SUM(V12:AD12) -> 0 | AF12: 0 | AO12: =SUM(AF12:AN12) -> 0 | AP12: 0 | AY12: =SUM(AP12:AX12) -> 0 | AZ12: =K12 -> 0 | BA12: =U12 -> 0 | BB12: =AE12 -> 0 | BC12: =AO12 -> 0 | BD12: =AY12 -> 0
A13: Total operating expenses | B13: =SUM(B8:B12) -> 3036 | C13: =SUM(C8:C12) -> -37 | D13: =SUM(D8:D12) -> 0 | E13: =SUM(E8:E12) -> 0 | F13: =SUM(F8:F12) -> 0 | G13: =SUM(G8:G12) -> 0 | H13: =SUM(H8:H12) -> -7 | I13: =SUM(I8:I12) -> 0 | ... AY13: =SUM(AY8:AY12) -> 4090 | AZ13: =K13 -> 2967 | BA13: =U13 -> 3319 | BB13: =AE13 -> 3408 | BC13: =AO13 -> 3734 | BD13: =AY13 -> 4090
A14: Operating income | B14: =B6-B13 -> 1249 | C14: =C6-C13 -> 37 | D14: =D6-D13 -> 0 | E14: =E6-E13 -> 0 | F14: =F6-F13 -> 0 | G14: =G6-G13 -> -41 | H14: =H6-H13 -> 7 | I14: =I6-I13 -> 0 | ... AY14: =AY6-AY13 -> 990 | AZ14: =K14 -> 1277 | BA14: =U14 -> 1314 | BB14: =AE14 -> 1343 | BC14: =AO14 -> 1282 | BD14: =AY14 -> 990
A15: Other income (expense)
A16: Interest expense, net of interest income | B16: -130 | C16: =-'Oper Lease Adjust 1'!G94 -> -36 | H16: -7 | I16: -7 | K16: =SUM(B16:J16) -> -180 | L16: -160 | M16: =-'Oper Lease Adjust 2'!G94 -> -37 | R16: -7 | S16: -5 | U16: =SUM(L16:T16) -> -209 | V16: -161 | W16: =-'Oper Lease Adjust 3'!G94 -> -56 | AB16: -7 | AC16: -14 | AE16: =SUM(V16:AD16) -> -238 | AF16: -138 | AG16: =-'Oper Lease Adjust 4'!G94 -> -69 | AL16: -8 | AM16: -17 | AO16: =SUM(AF16:AN16) -> -232 | AP16: -125 | AQ16: =-'Oper Lease Adjust 5'!G94 -> -80 | AV16: -7 | AW16: -28 | AY16: =SUM(AP16:AX16) -> -240 | AZ16: =K16 -> -180 | BA16: =U16 -> -209 | BB16: =AE16 -> -238 | BC16: =AO16 -> -232 | BD16: =AY16 -> -240
A17: Gain (loss) on spin-off of subsidiary | J17: 0 | K17: =SUM(B17:J17) -> 0 | L17: 0 | T17: 0 | U17: =SUM(L17:T17) -> 0 | V17: 0 | AD17: 0 | AE17: =SUM(V17:AD17) -> 0 | AF17: 0 | AN17: 0 | AO17: =SUM(AF17:AN17) -> 0 | AP17: 0 | AY17: =SUM(AP17:AX17) -> 0 | AZ17: =K17 -> 0 | BA17: =U17 -> 0 | BB17: =AE17 -> 0 | BC17: =AO17 -> 0 | BD17: =AY17 -> 0
A18: Gain (loss) on debt restruct/early extinguish | J18: 0 | K18: =SUM(B18:J18) -> 0 | L18: 0 | T18: 0 | U18: =SUM(L18:T18) -> 0 | V18: 0 | AD18: 0 | AE18: =SUM(V18:AD18) -> 0 | AF18: 0 | AN18: 0 | AO18: =SUM(AF18:AN18) -> 0 | AP18: 0 | AX18: 0 | AY18: =SUM(AP18:AX18) -> 0 | AZ18: =K18 -> 0 | BA18: =U18 -> 0 | BB18: =AE18 -> 0 | BC18: =AO18 -> 0 | BD18: =AY18 -> 0
A19: Gain (loss) on disposal of credit card receivables | J19: 0 | K19: =SUM(B19:J19) -> 0 | L19: 0 | T19: 0 | U19: =SUM(L19:T19) -> 0 | V19: 0 | AD19: 0 | AE19: =SUM(V19:AD19) -> 0 | AF19: 0 | AN19: 0 | AO19: =SUM(AF19:AN19) -> 0 | AP19: 0 | AX19: 0 | AY19: =SUM(AP19:AX19) -> 0 | AZ19: =K19 -> 0 | BA19: =U19 -> 0 | BB19: =AE19 -> 0 | BC19: =AO19 -> 0 | BD19: =AY19 -> 0
A20: Gain (loss) on disposal of PP&E | J20: 0 | K20: =SUM(B20:J20) -> 0 | L20: 0 | T20: 0 | U20: =SUM(L20:T20) -> 0 | V20: 0 | AD20: 0 | AE20: =SUM(V20:AD20) -> 0 | AF20: 0 | AN20: 0 | AO20: =SUM(AF20:AN20) -> 0 | AP20: 0 | AX20: 0 | AY20: =SUM(AP20:AX20) -> 0 | AZ20: =K20 -> 0 | BA20: =U20 -> 0 | BB20: =AE20 -> 0 | BC20: =AO20 -> 0 | BD20: =AY20 -> 0
A21: Impairment loss on PP&E | J21: 0 | K21: =SUM(B21:J21) -> 0 | L21: 0 | T21: 0 | U21: =SUM(L21:T21) -> 0 | V21: 0 | AD21: 0 | AE21: =SUM(V21:AD21) -> 0 | AF21: 0 | AN21: 0 | AO21: =SUM(AF21:AN21) -> 0 | AP21: 0 | AY21: =SUM(AP21:AX21) -> 0 | AZ21: =K21 -> 0 | BA21: =U21 -> 0 | BB21: =AE21 -> 0 | BC21: =AO21 -> 0 | BD21: =AY21 -> 0
A22: Impairment loss on goodwill | J22: 0 | K22: =SUM(B22:J22) -> 0 | L22: 0 | T22: 0 | U22: =SUM(L22:T22) -> 0 | V22: 0 | AD22: 0 | AE22: =SUM(V22:AD22) -> 0 | AF22: 0 | AN22: 0 | AO22: =SUM(AF22:AN22) -> 0 | AP22: 0 | AX22: 0 | AY22: =SUM(AP22:AX22) -> 0 | AZ22: =K22 -> 0 | BA22: =U22 -> 0 | BB22: =AE22 -> 0 | BC22: =AO22 -> 0 | BD22: =AY22 -> 0
A23: Impairment of other intangibles | K23: =SUM(B23:J23) -> 0 | L23: 0 | T23: 0 | U23: =SUM(L23:T23) -> 0 | V23: 0 | AD23: 0 | AE23: =SUM(V23:AD23) -> 0 | AF23: 0 | AN23: 0 | AO23: =SUM(AF23:AN23) -> 0 | AP23: 0 | AX23: 0 | AY23: =SUM(AP23:AX23) -> 0 | AZ23: =K23 -> 0 | BA23: =U23 -> 0 | BB23: =AE23 -> 0 | BC23: =AO23 -> 0 | BD23: =AY23 -> 0
A24: Restructuring charge | J24: 0 | K24: =SUM(B24:J24) -> 0 | L24: 0 | T24: 0 | U24: =SUM(L24:T24) -> 0 | V24: 0 | AD24: 0 | AE24: =SUM(V24:AD24) -> 0 | AF24: 0 | AN24: 0 | AO24: =SUM(AF24:AN24) -> 0 | AP24: 0 | AX24: 0 | AY24: =SUM(AP24:AX24) -> 0 | AZ24: =K24 -> 0 | BA24: =U24 -> 0 | BB24: =AE24 -> 0 | BC24: =AO24 -> 0 | BD24: =AY24 -> 0
A25: Total other income (expense) | B25: =SUM(B16:B24) -> -130 | C25: =SUM(C16:C24) -> -36 | D25: =SUM(D16:D24) -> 0 | E25: =SUM(E16:E24) -> 0 | F25: =SUM(F16:F24) -> 0 | G25: =SUM(G16:G24) -> 0 | H25: =SUM(H16:H24) -> -7 | I25: =SUM(I16:I24) -> -7 | ... AY25: =SUM(AY16:AY24) -> -240 | AZ25: =K25 -> -180 | BA25: =U25 -> -209 | BB25: =AE25 -> -238 | BC25: =AO25 -> -232 | BD25: =AY25 -> -240
A26: Income from cont. oper's before taxes | B26: =B14+B25 -> 1119 | C26: =C14+C25 -> 1 | D26: =D14+D25 -> 0 | E26: =E14+E25 -> 0 | F26: =F14+F25 -> 0 | G26: =G14+G25 -> -41 | H26: =H14+H25 -> 0 | I26: =I14+I25 -> -7 | ... AY26: =AY14+AY25 -> 750 | AZ26: =K26 -> 1097 | BA26: =U26 -> 1105 | BB26: =AE26 -> 1105 | BC26: =AO26 -> 1050 | BD26: =AY26 -> 750
A27: Taxes on income from continuing operations | B27: 436 | C27: =IF('Oper Lease Adjust 1'!G98>0,'Oper Lease Adjust 1'!G98,-'Oper Lease Adjust 1'!H98) -> 0 | D27: 0 | E27: 0 | F27: 0 | G27: -16 | H27: 0 | I27: -3 | J27: 10 | K27: =SUM(B27:J27) -> 427 | L27: 450 | M27: =IF('Oper Lease Adjust 2'!G98>0,'Oper Lease Adjust 2'!G98,-'Oper Lease Adjust 2'!H98) -> 3 | N27: 0 | O27: 0 | P27: 0 | Q27: -32 | R27: 0 | S27: -2 | T27: 0 | U27: =SUM(L27:T27) -> 419 | V27: 455 | W27: =IF('Oper Lease Adjust 3'!G98>0,'Oper Lease Adjust 3'!G98,-'Oper Lease Adjust 3'!H98) -> -7 | X27: 0 | Y27: 0 | Z27: 0 | AA27: -20 | AB27: 0 | AC27: -5 | AD27: 0 | AE27: =SUM(V27:AD27) -> 423 | AF27: 465 | AG27: =IF('Oper Lease Adjust 4'!G98>0,'Oper Lease Adjust 4'!G98,-'Oper Lease Adjust 4'!H98) -> -13 | AH27: 0 | AI27: 0 | AJ27: 0 | AK27: -33 | AL27: 0 | AM27: -7 | AN27: 0 | AO27: =SUM(AF27:AN27) -> 412 | AP27: 376 | AQ27: =IF('Oper Lease Adjust 5'!G98>0,'Oper Lease Adjust 5'!G98,-'Oper Lease Adjust 5'!H98) -> -14 | AR27: 0 | AS27: -37 | AT27: 0 | AU27: -48 | AV27: 0 | AW27: -11 | AX27: 23 | AY27: =SUM(AP27:AX27) -> 289 | AZ27: =K27 -> 427 | BA27: =U27 -> 419 | BB27: =AE27 -> 423 | BC27: =AO27 -> 412 | BD27: =AY27 -> 289
A28: Income from contin oper incl noncontrol int's | B28: =B26-B27 -> 683 | C28: =C26-C27 -> 1 | D28: =D26-D27 -> 0 | E28: =E26-E27 -> 0 | F28: =F26-F27 -> 0 | G28: =G26-G27 -> -25 | H28: =H26-H27 -> 0 | I28: =I26-I27 -> -4 | ... AY28: =AY26-AY27 -> 461 | AZ28: =K28 -> 670 | BA28: =U28 -> 686 | BB28: =AE28 -> 682 | BC28: =AO28 -> 638 | BD28: =AY28 -> 461
A29: Less: Income attrib to noncontrol interests | B29: 0 | C29: 0 | D29: 0 | E29: 0 | F29: 0 | G29: 0 | H29: 0 | I29: 0 | J29: 0 | K29: =SUM(B29:J29) -> 0 | L29: 0 | M29: 0 | N29: 0 | O29: 0 | P29: 0 | Q29: 0 | R29: 0 | S29: 0 | T29: 0 | U29: =SUM(L29:T29) -> 0 | V29: 0 | W29: 0 | X29: 0 | Y29: 0 | Z29: 0 | AA29: 0 | AB29: 0 | AC29: 0 | AD29: 0 | AE29: =SUM(V29:AD29) -> 0 | AF29: 0 | AG29: 0 | AH29: 0 | AI29: 0 | AJ29: 0 | AK29: 0 | AL29: 0 | AM29: 0 | AN29: 0 | AO29: =SUM(AF29:AN29) -> 0 | AP29: 0 | AQ29: 0 | AR29: 0 | AS29: 0 | AT29: 0 | AU29: 0 | AV29: 0 | AW29: 0 | AX29: 0 | AY29: =SUM(AP29:AX29) -> 0 | AZ29: =K29 -> 0 | BA29: =U29 -> 0 | BB29: =AE29 -> 0 | BC29: =AO29 -> 0 | BD29: =AY29 -> 0
A30: Income from continuing operations | B30: =B28-B29 -> 683 | C30: =C28-C29 -> 1 | D30: =D28-D29 -> 0 | E30: =E28-E29 -> 0 | F30: =F28-F29 -> 0 | G30: =G28-G29 -> -25 | H30: =H28-H29 -> 0 | I30: =I28-I29 -> -4 | ... AY30: =AY28-AY29 -> 461 | AZ30: =K30 -> 670 | BA30: =U30 -> 686 | BB30: =AE30 -> 682 | BC30: =AO30 -> 638 | BD30: =AY30 -> 461
A31: Gain (loss) on discont'd oper's, net of tax | B31: 0 | K31: Disregard | L31: 0 | U31: Disregard | V31: 0 | AE31: Disregard | AF31: 0 | AO31: Disregard | AP31: 0 | AY31: Disregard | AZ31: =B31 -> 0 | BA31: =L31 -> 0 | BB31: =V31 -> 0 | BC31: =AF31 -> 0 | BD31: =AP31 -> 0
A32: Income before extraordinary items | B32: =SUM(B30:B31) -> 683 | K32: Disregard | L32: =SUM(L30:L31) -> 735 | U32: Disregard | V32: =SUM(V30:V31) -> 734 | AE32: Disregard | AF32: =SUM(AF30:AF31) -> 720 | AO32: Disregard | AP32: =SUM(AP30:AP31) -> 600 | AY32: Disregard | AZ32: =SUM(AZ30:AZ31) -> 670 | BA32: =SUM(BA30:BA31) -> 686 | BB32: =SUM(BB30:BB31) -> 682 | BC32: =SUM(BC30:BC31) -> 638 | BD32: =SUM(BD30:BD31) -> 461
A33: Extraordinary gain (loss), net of tax | B33: 0 | K33: Disregard | L33: 0 | U33: Disregard | V33: 0 | AE33: Disregard | AF33: 0 | AO33: Disregard | AP33: 0 | AY33: Disregard | AZ33: =B33 -> 0 | BA33: =L33 -> 0 | BB33: =V33 -> 0 | BC33: =AF33 -> 0 | BD33: =AP33 -> 0
A34: Net income | B34: =SUM(B32:B33) -> 683 | K34: Disregard | L34: =SUM(L32:L33) -> 735 | U34: Disregard | V34: =SUM(V32:V33) -> 734 | AE34: Disregard | AF34: =SUM(AF32:AF33) -> 720 | AO34: Disregard | AP34: =SUM(AP32:AP33) -> 600 | AY34: Disregard | AZ34: =SUM(AZ32:AZ33) -> 670 | BA34: =SUM(BA32:BA33) -> 686 | BB34: =SUM(BB32:BB33) -> 682 | BC34: =SUM(BC32:BC33) -> 638 | BD34: =SUM(BD32:BD33) -> 461
A36: Before-tax amounts from above:
A37: Income from cont. oper's before taxes | B37: =B26 -> 1119 | C37: =C26 -> 1 | D37: =D26 -> 0 | E37: =E26 -> 0 | F37: =F26 -> 0 | G37: =G26 -> -41 | H37: =H26 -> 0 | I37: =I26 -> -7 | ... BD37: =BD26 -> 750
A38: Interest expense, net | B38: =B16 -> -130 | C38: =C16 -> -36 | D38: =D16 -> 0 | E38: =E16 -> 0 | F38: =F16 -> 0 | G38: =G16 -> 0 | H38: =H16 -> -7 | I38: =I16 -> -7 | ... BD38: =BD16 -> -240
A39: Operating profit before income taxes | B39: =B37-B38 -> 1249 | C39: =C37-C38 -> 37 | D39: =D37-D38 -> 0 | E39: =E37-E38 -> 0 | F39: =F37-F38 -> 0 | G39: =G37-G38 -> -41 | H39: =H37-H38 -> 7 | I39: =I37-I38 -> 0 | ... BD39: =BD37-BD38 -> 990
A43: Explanations for Analysis Adjustments
A44: (A) Capitalize operating lease commitments (see balance sheet for related adjustments)
...

Sheet Common-size FS
P1: . | Q1: . | R1: . | S1: . | T1: . | U1: . | V1: . | W1: . | X1: . | Y1: . | Z1: .
A3: Consolidated BS–Common-size analysis
A8: (US dollars in millions) | B8: Fiscal year ended (after analysis adjustments) | I8: =B8 -> Fiscal year ended (after analysis adjustments) | O8: Analysis of changes in balance sheet mix, focusing on business or financial implications and relationship to other changes in balance sheet mix
B9: =C9-1 -> 2010 | C9: ='BS Analysis Adjustments'!AZ3 -> 2011 | D9: ='BS Analysis Adjustments'!BA3 -> 2012 | E9: ='BS Analysis Adjustments'!BB3 -> 2013 | F9: ='BS Analysis Adjustments'!BC3 -> 2014 | G9: ='BS Analysis Adjustments'!BD3 -> 2015 | I9: =B9 -> 2010 | J9: =C9 -> 2011 | K9: =D9 -> 2012 | L9: =E9 -> 2013 | M9: =F9 -> 2014 | N9: =G9 -> 2015
A10: ASSETS
A11: Current Assets
A12: ='BS Analysis Adjustments'!A6 -> Cash and cash equivalents | B12: 1506 | C12: ='BS Analysis Adjustments'!AZ6 -> 1877 | D12: ='BS Analysis Adjustments'!BA6 -> 1285 | E12: ='BS Analysis Adjustments'!BB6 -> 1194 | F12: ='BS Analysis Adjustments'!BC6 -> 827 | G12: ='BS Analysis Adjustments'!BD6 -> 595 | I12: =B12/B$29 -> 0.20182257 | J12: =C12/C$29 -> 0.17403802 | K12: =D12/D$29 -> 0.11412078 | L12: =E12/E$29 -> 0.097358121 | M12: =F12/F$29 -> 0.062827623 | N12: =G12/G$29 -> 0.049924484 | O12: Of course, you may use this cell to record your notes, but the facilitator will not grade them.)]
A13: ='BS Analysis Adjustments'!A7 -> Investment securities AFS | B13: 0 | C13: ='BS Analysis Adjustments'!AZ7 -> 0 | D13: ='BS Analysis Adjustments'!BA7 -> 0 | E13: ='BS Analysis Adjustments'!BB7 -> 0 | F13: ='BS Analysis Adjustments'!BC7 -> 0 | G13: ='BS Analysis Adjustments'!BD7 -> 0 | I13: =B13/B$29 -> 0 | J13: =C13/C$29 -> 0 | K13: =D13/D$29 -> 0 | L13: =E13/E$29 -> 0 | M13: =F13/F$29 -> 0 | N13: =G13/G$29 -> 0
A14: ='BS Analysis Adjustments'!A8 -> AR, gross | B14: 2171 | C14: ='BS Analysis Adjustments'!AZ8 -> 2148 | D14: ='BS Analysis Adjustments'!BA8 -> 2214 | E14: ='BS Analysis Adjustments'!BB8 -> 2257 | F14: ='BS Analysis Adjustments'!BC8 -> 2381 | G14: ='BS Analysis Adjustments'!BD8 -> 197 | I14: =B14/B$29 -> 0.29094077 | J14: =C14/C$29 -> 0.19916551 | K14: =D14/D$29 -> 0.19662522 | L14: =E14/E$29 -> 0.18403457 | M14: =F14/F$29 -> 0.18088582 | N14: =G14/G$29 -> 0.016529619
A15: ='BS Analysis Adjustments'!A9 -> Less: Allowance for bad debts | B15: -145 | C15: ='BS Analysis Adjustments'!AZ9 -> -115 | D15: ='BS Analysis Adjustments'!BA9 -> -85 | E15: ='BS Analysis Adjustments'!BB9 -> -80 | F15: ='BS Analysis Adjustments'!BC9 -> -75 | G15: ='BS Analysis Adjustments'!BD9 -> -1 | I15: =B15/B$29 -> -0.019431788 | J15: =C15/C$29 -> -0.010662958 | K15: =D15/D$29 -> -0.0075488455 | L15: =E15/E$29 -> -0.0065231572 | M15: =F15/F$29 -> -0.0056977893 | N15: =G15/G$29 -> -8.3906696e-05
A16: ='BS Analysis Adjustments'!A10 -> AR, net | B16: =SUM(B14:B15) -> 2026 | C16: =SUM(C14:C15) -> 2033 | D16: =SUM(D14:D15) -> 2129 | E16: =SUM(E14:E15) -> 2177 | F16: =SUM(F14:F15) -> 2306 | G16: =SUM(G14:G15) -> 196 | I16: =B16/B$29 -> 0.27150898 | J16: =C16/C$29 -> 0.18850255 | K16: =D16/D$29 -> 0.18907638 | L16: =E16/E$29 -> 0.17751142 | M16: =F16/F$29 -> 0.17518803 | N16: =G16/G$29 -> 0.016445712
A17: ='BS Analysis Adjustments'!A11 -> Inventory (LOCOM, retail average cost) | B17: 977 | C17: ='BS Analysis Adjustments'!AZ11 -> 1148 | D17: ='BS Analysis Adjustments'!BA11 -> 1360 | E17: ='BS Analysis Adjustments'!BB11 -> 1531 | F17: ='BS Analysis Adjustments'!BC11 -> 1733 | G17: ='BS Analysis Adjustments'!BD11 -> 1945 | I17: =B17/B$29 -> 0.13093005 | J17: =C17/C$29 -> 0.10644414 | K17: =D17/D$29 -> 0.12078153 | L17: =E17/E$29 -> 0.12483692 | M17: =F17/F$29 -> 0.13165692 | N17: =G17/G$29 -> 0.16319852
A18: ='BS Analysis Adjustments'!A12 -> DIT assets–current | B18: 236 | C18: ='BS Analysis Adjustments'!AZ12 -> 220 | D18: ='BS Analysis Adjustments'!BA12 -> 227 | E18: ='BS Analysis Adjustments'!BB12 -> 239 | F18: ='BS Analysis Adjustments'!BC12 -> 256 | G18: ='BS Analysis Adjustments'!BD12 -> 0 | I18: =B18/B$29 -> 0.03162691 | J18: =C18/C$29 -> 0.020398702 | K18: =D18/D$29 -> 0.020159858 | L18: =E18/E$29 -> 0.019487932 | M18: =F18/F$29 -> 0.019448454 | N18: =G18/G$29 -> 0
A19: ='BS Analysis Adjustments'!A13 -> Other current assets | B19: 79 | C19: ='BS Analysis Adjustments'!AZ13 -> 1555 | D19: ='BS Analysis Adjustments'!BA13 -> 1509 | E19: ='BS Analysis Adjustments'!BB13 -> 1537 | F19: ='BS Analysis Adjustments'!BC13 -> 1911 | G19: ='BS Analysis Adjustments'!BD13 -> 1969 | I19: =B19/B$29 -> 0.010586974 | J19: =C19/C$29 -> 0.14418173 | K19: =D19/D$29 -> 0.13401421 | L19: =E19/E$29 -> 0.12532616 | M19: =F19/F$29 -> 0.14517967 | N19: =G19/G$29 -> 0.16521228
A20: ='BS Analysis Adjustments'!A14 -> Total current assets | B20: =SUM(B12:B13,B16:B19) -> 4824 | C20: =SUM(C12:C13,C16:C19) -> 6833 | D20: =SUM(D12:D13,D16:D19) -> 6510 | E20: =SUM(E12:E13,E16:E19) -> 6678 | F20: =SUM(F12:F13,F16:F19) -> 7033 | G20: =SUM(G12:G13,G16:G19) -> 4705 | I20: =B20/B$29 -> 0.64647548 | J20: =C20/C$29 -> 0.63356514 | K20: =D20/D$29 -> 0.57815275 | L20: =E20/E$29 -> 0.54452055 | M20: =F20/F$29 -> 0.53430069 | N20: =G20/G$29 -> 0.394781
A22: ='BS Analysis Adjustments'!A16 -> PP&E, at cost | B22: 5838 | C22: ='BS Analysis Adjustments'!AZ16 -> 7111 | D22: ='BS Analysis Adjustments'!BA16 -> 7913 | E22: ='BS Analysis Adjustments'!BB16 -> 8909 | F22: ='BS Analysis Adjustments'!BC16 -> 9864 | G22: ='BS Analysis Adjustments'!BD16 -> 11053 | I22: =B22/B$29 -> 0.78236398 | J22: =C22/C$29 -> 0.65934168 | K22: =D22/D$29 -> 0.70275311 | L22: =E22/E$29 -> 0.72643509 | M22: =F22/F$29 -> 0.74937324 | N22: =G22/G$29 -> 0.92742071 | O22: [For the Week 1 assignment, replace this text with your analysis comments. (If this is the copy of workbook you are using to complete the group project, you are not required to provide analysis comments. Of course, you may use this cell to record your notes, but the facilitator will not grade them.)]
A23: ='BS Analysis Adjustments'!A17 -> Less: Accumulated depreciation of PP&E | B23: -3520 | C23: ='BS Analysis Adjustments'!AZ17 -> -3791 | D23: ='BS Analysis Adjustments'!BA17 -> -4064 | E23: ='BS Analysis Adjustments'!BB17 -> -4395 | F23: ='BS Analysis Adjustments'!BC17 -> -4698 | G23: ='BS Analysis Adjustments'!BD17 -> -5108 | I23: =B23/B$29 -> -0.4717234 | J23: =C23/C$29 -> -0.35150672 | K23: =D23/D$29 -> -0.36092362 | L23: =E23/E$29 -> -0.35836595 | M23: =F23/F$29 -> -0.35690952 | N23: =G23/G$29 -> -0.4285954
A24: ='BS Analysis Adjustments'!A18 -> PP&E, net | B24: =SUM(B22:B23) -> 2318 | C24: =SUM(C22:C23) -> 3320 | D24: =SUM(D22:D23) -> 3849 | E24: =SUM(E22:E23) -> 4514 | F24: =SUM(F22:F23) -> 5166 | G24: =SUM(G22:G23) -> 5945 | I24: =B24/B$29 -> 0.31064058 | J24: =C24/C$29 -> 0.30783496 | K24: =D24/D$29 -> 0.34182948 | L24: =E24/E$29 -> 0.36806915 | M24: =F24/F$29 -> 0.39246372 | N24: =G24/G$29 -> 0.49882531
A25: ='BS Analysis Adjustments'!A19 -> Goodwill, net impairment write-downs | B25: 53 | C25: ='BS Analysis Adjustments'!AZ19 -> 175 | D25: ='BS Analysis Adjustments'!BA19 -> 175 | E25: ='BS Analysis Adjustments'!BB19 -> 175 | F25: ='BS Analysis Adjustments'!BC19 -> 435 | G25: ='BS Analysis Adjustments'!BD19 -> 435 | I25: =B25/B$29 -> 0.0071026534 | J25: =C25/C$29 -> 0.01622624 | K25: =D25/D$29 -> 0.015541741 | L25: =E25/E$29 -> 0.014269406 | M25: =F25/F$29 -> 0.033047178 | N25: =G25/G$29 -> 0.036499413
A26: ='BS Analysis Adjustments'!A20 -> Other intangibles, net amort., impairment | B26: 0 | C26: ='BS Analysis Adjustments'!AZ20 -> 0 | D26: ='BS Analysis Adjustments'!BA20 -> 0 | E26: ='BS Analysis Adjustments'!BB20 -> 0 | F26: ='BS Analysis Adjustments'!BC20 -> 0 | G26: ='BS Analysis Adjustments'!BD20 -> 0 | I26: =B26/B$29 -> 0 | J26: =C26/C$29 -> 0 | K26: =D26/D$29 -> 0 | L26: =E26/E$29 -> 0 | M26: =F26/F$29 -> 0 | N26: =G26/G$29 -> 0
A27: ='BS Analysis Adjustments'!A21 -> DIT assets–noncurrent | B27: 0 | C27: ='BS Analysis Adjustments'!AZ21 -> 0 | D27: ='BS Analysis Adjustments'!BA21 -> 0 | E27: ='BS Analysis Adjustments'!BB21 -> 0 | F27: ='BS Analysis Adjustments'!BC21 -> 0 | G27: ='BS Analysis Adjustments'!BD21 -> 0 | I27: =B27/B$29 -> 0 | J27: =C27/C$29 -> 0 | K27: =D27/D$29 -> 0 | L27: =E27/E$29 -> 0 | M27: =F27/F$29 -> 0 | N27: =G27/G$29 -> 0
A28: ='BS Analysis Adjustments'!A22 -> Other noncurrent assets | B28: 267 | C28: ='BS Analysis Adjustments'!AZ22 -> 457 | D28: ='BS Analysis Adjustments'!BA22 -> 726 | E28: ='BS Analysis Adjustments'!BB22 -> 897 | F28: ='BS Analysis Adjustments'!BC22 -> 529 | G28: ='BS Analysis Adjustments'!BD22 -> 833 | I28: =B28/B$29 -> 0.035781292 | J28: =C28/C$29 -> 0.042373667 | K28: =D28/D$29 -> 0.064476021 | L28: =E28/E$29 -> 0.0731409 | M28: =F28/F$29 -> 0.040188407 | N28: =G28/G$29 -> 0.069894278
A29: ='BS Analysis Adjustments'!A23 -> Total assets | B29: =SUM(B20,B24:B28) -> 7462 | C29: =SUM(C20,C24:C28) -> 10785 | D29: =SUM(D20,D24:D28) -> 11260 | E29: =SUM(E20,E24:E28) -> 12264 | F29: =SUM(F20,F24:F28) -> 13163 | G29: =SUM(G20,G24:G28) -> 11918 | I29: =SUM(I20,I24:I28) -> 1 | J29: =SUM(J20,J24:J28) -> 1 | K29: =SUM(K20,K24:K28) -> 1 | L29: =SUM(L20,L24:L28) -> 1 | M29: =SUM(M20,M24:M28) -> 1 | N29: =SUM(N20,N24:N28) -> 1
A31: Consolidated BS–Common-size analysis
A32: (US dollars in millions) | B32: =B8 -> Fiscal year ended (after analysis adjustments) | I32: =I8 -> Fiscal year ended (after analysis adjustments)
B33: =B9 -> 2010 | C33: =C9 -> 2011 | D33: =D9 -> 2012 | E33: =E9 -> 2013 | F33: =F9 -> 2014 | G33: =G9 -> 2015 | I33: =I9 -> 2010 | J33: =J9 -> 2011 | K33: =K9 -> 2012 | L33: =L9 -> 2013 | M33: =M9 -> 2014 | N33: =N9 -> 2015
A34: LIABILITIES & STOCKHOLDERS' EQUITY
A35: Current Liabilities
A36: ='BS Analysis Adjustments'!A27 -> AP | B36: 846 | C36: ='BS Analysis Adjustments'!AZ27 -> 917 | D36: ='BS Analysis Adjustments'!BA27 -> 1011 | E36: ='BS Analysis Adjustments'!BB27 -> 1263 | F36: ='BS Analysis Adjustments'!BC27 -> 1328 | G36: ='BS Analysis Adjustments'!BD27 -> 1324 | I36: =B36/B$64 -> 0.11337443 | J36: =C36/C$64 -> 0.085025498 | K36: =D36/D$64 -> 0.089786856 | L36: =E36/E$64 -> 0.10298434 | M36: =F36/F$64 -> 0.10088886 | N36: =G36/G$64 -> 0.11109247 | O36: Purchase obligations average $1,492 for past 6 years. Cap Lease increase from opening stores? - Do we need to address the "other charges" listed on page 32..realestate, percentage of sales, etc? 2011 did not pay down debt as in other years.
A37: ='BS Analysis Adjustments'!A28 -> Accrued liabilities | B37: 375 | C37: ='BS Analysis Adjustments'!AZ28 -> 1661 | D37: ='BS Analysis Adjustments'!BA28 -> 1833 | E37: ='BS Analysis Adjustments'!BB28 -> 1845 | F37: ='BS Analysis Adjustments'!BC28 -> 2225 | G37: ='BS Analysis Adjustments'!BD28 -> 2107 | I37: =B37/B$64 -> 0.050254623 | J37: =C37/C$64 -> 0.1540102 | K37: =D37/D$64 -> 0.16278863 | L37: =E37/E$64 -> 0.15044031 | M37: =F37/F$64 -> 0.16903441 | N37: =G37/G$64 -> 0.17679141
A38: ='BS Analysis Adjustments'!A29 -> Income taxes payable | B38: 0 | C38: ='BS Analysis Adjustments'!AZ29 -> 0 | D38: ='BS Analysis Adjustments'!BA29 -> 0 | E38: ='BS Analysis Adjustments'!BB29 -> 0 | F38: ='BS Analysis Adjustments'!BC29 -> 0 | G38: ='BS Analysis Adjustments'!BD29 -> 0 | I38: =B38/B$64 -> 0 | J38: =C38/C$64 -> 0 | K38: =D38/D$64 -> 0 | L38: =E38/E$64 -> 0 | M38: =F38/F$64 -> 0 | N38: =G38/G$64 -> 0
A39: ='BS Analysis Adjustments'!A30 -> DIT liabilities–current | B39: 0 | C39: ='BS Analysis Adjustments'!AZ30 -> 0 | D39: ='BS Analysis Adjustments'!BA30 -> 0 | E39: ='BS Analysis Adjustments'!BB30 -> 0 | F39: ='BS Analysis Adjustments'!BC30 -> 0 | G39: ='BS Analysis Adjustments'!BD30 -> 0 | I39: =B39/B$64 -> 0 | J39: =C39/C$64 -> 0 | K39: =D39/D$64 -> 0 | L39: =E39/E$64 -> 0 | M39: =F39/F$64 -> 0 | N39: =G39/G$64 -> 0
A40: ='BS Analysis Adjustments'!A31 -> Capital lease obligation–current portion | B40: 0 | C40: ='BS Analysis Adjustments'!AZ31 -> 85 | D40: ='BS Analysis Adjustments'!BA31 -> 97 | E40: ='BS Analysis Adjustments'!BB31 -> 108 | F40: ='BS Analysis Adjustments'!BC31 -> 130 | G40: ='BS Analysis Adjustments'!BD31 -> 156 | I40: =B40/B$64 -> 0 | J40: =C40/C$64 -> 0.0078813166 | K40: =D40/D$64 -> 0.0086145648 | L40: =E40/E$64 -> 0.0088062622 | M40: =F40/F$64 -> 0.009876168 | N40: =G40/G$64 -> 0.013089445
A41: ='BS Analysis Adjustments'!A32 -> Bonds–current portion | B41: 0 | C41: ='BS Analysis Adjustments'!AZ32 -> 0 | D41: ='BS Analysis Adjustments'!BA32 -> 0 | E41: ='BS Analysis Adjustments'!BB32 -> 0 | F41: ='BS Analysis Adjustments'!BC32 -> 0 | G41: ='BS Analysis Adjustments'!BD32 -> 0 | I41: =B41/B$64 -> 0 | J41: =C41/C$64 -> 0 | K41: =D41/D$64 -> 0 | L41: =E41/E$64 -> 0 | M41: =F41/F$64 -> 0 | N41: =G41/G$64 -> 0
A42: ='BS Analysis Adjustments'!A33 -> Notes and loans payable–current | B42: 6 | C42: ='BS Analysis Adjustments'!AZ33 -> 506 | D42: ='BS Analysis Adjustments'!BA33 -> 7 | E42: ='BS Analysis Adjustments'!BB33 -> 7 | F42: ='BS Analysis Adjustments'!BC33 -> 8 | G42: ='BS Analysis Adjustments'!BD33 -> 10 | I42: =B42/B$64 -> 0.00080407397 | J42: =C42/C$64 -> 0.046917014 | K42: =D42/D$64 -> 0.00062166963 | L42: =E42/E$64 -> 0.00057077626 | M42: =F42/F$64 -> 0.00060776419 | N42: =G42/G$64 -> 0.00083906696
A43: ='BS Analysis Adjustments'!A34 -> Other current liabilities | B43: 652 | C43: ='BS Analysis Adjustments'!AZ34 -> 764 | D43: ='BS Analysis Adjustments'!BA34 -> 804 | E43: ='BS Analysis Adjustments'!BB34 -> 876 | F43: ='BS Analysis Adjustments'!BC34 -> 1048 | G43: ='BS Analysis Adjustments'!BD34 -> 1161 | I43: =B43/B$64 -> 0.087376039 | J43: =C43/C$64 -> 0.070839128 | K43: =D43/D$64 -> 0.071403197 | L43: =E43/E$64 -> 0.071428571 | M43: =F43/F$64 -> 0.079617109 | N43: =G43/G$64 -> 0.097415674
A44: ='BS Analysis Adjustments'!A35 -> Total current liabilities | B44: =SUM(B36:B43) -> 1879 | C44: =SUM(C36:C43) -> 3933 | D44: =SUM(D36:D43) -> 3752 | E44: =SUM(E36:E43) -> 4099 | F44: =SUM(F36:F43) -> 4739 | G44: =SUM(G36:G43) -> 4758 | I44: =SUM(I36:I43) -> 0.25180917 | J44: =SUM(J36:J43) -> 0.36467316 | K44: =SUM(K36:K43) -> 0.33321492 | L44: =SUM(L36:L43) -> 0.33423027 | M44: =SUM(M36:M43) -> 0.36002431 | N44: =SUM(N36:N43) -> 0.39922806
A45: ='BS Analysis Adjustments'!A36 -> Notes and loans payable–noncurrent | B45: 2775 | C45: ='BS Analysis Adjustments'!AZ36 -> 3141 | D45: ='BS Analysis Adjustments'!BA36 -> 3124 | E45: ='BS Analysis Adjustments'!BB36 -> 3106 | F45: ='BS Analysis Adjustments'!BC36 -> 3123 | G45: ='BS Analysis Adjustments'!BD36 -> 2795 | I45: =B45/B$64 -> 0.37188421 | J45: =C45/C$64 -> 0.29123783 | K45: =D45/D$64 -> 0.27744227 | L45: =E45/E$64 -> 0.25326158 | M45: =F45/F$64 -> 0.23725594 | N45: =G45/G$64 -> 0.23451921 | O45: [For the Week 1 assignment, replace this text with your analysis comments. (If this is the copy of workbook you are using to complete the group project, you are not required to provide analysis comments. Of course, you may use this cell to record your notes, but the facilitator will not grade them.)]
A46: ='BS Analysis Adjustments'!A37 -> Capital lease obligation–noncurrent | B46: 0 | C46: ='BS Analysis Adjustments'!AZ37 -> 766 | D46: ='BS Analysis Adjustments'!BA37 -> 1173 | E46: ='BS Analysis Adjustments'!BB37 -> 1457 | F46: ='BS Analysis Adjustments'!BC37 -> 1696 | G46: ='BS Analysis Adjustments'!BD37 -> 2054 | I46: =B46/B$64 -> 0 | J46: =C46/C$64 -> 0.071024571 | K46: =D46/D$64 -> 0.10417407 | L46: =E46/E$64 -> 0.118803 | M46: =F46/F$64 -> 0.12884601 | N46: =G46/G$64 -> 0.17234435
A47: ='BS Analysis Adjustments'!A38 -> Bonds, net discount [or, plus premium] | B47: 0 | C47: ='BS Analysis Adjustments'!AZ38 -> 0 | D47: ='BS Analysis Adjustments'!BA38 -> 0 | E47: ='BS Analysis Adjustments'!BB38 -> 0 | F47: ='BS Analysis Adjustments'!BC38 -> 0 | G47: ='BS Analysis Adjustments'!BD38 -> 0 | I47: =B47/B$64 -> 0 | J47: =C47/C$64 -> 0 | K47: =D47/D$64 -> 0 | L47: =E47/E$64 -> 0 | M47: =F47/F$64 -> 0 | N47: =G47/G$64 -> 0
...

Sheet Financial Ratios
R1: . | S1: . | T1: . | U1: . | V1: . | W1: . | X1: . | Y1: . | Z1: .
A7: Financial Ratio Analysis
L8: =G10 -> 2015
A9: LIQUIDITY | B9: Fiscal year ended (after analysis adjustments) | I9: Key Competitor ratios | J9: Industry average ratios | K9: Analysis of trend and relationship to other ratios' trends, comparisons to key competitor and industry average ratios | L9: Key Competitor | M9: Abercrombie & Fitch, Inc. | N9: Dillard's, Inc. | O9: Macy's Inc. | P9: Penney (J.C.) Co.,Inc. (Holding Co.) | Q9: N/A
A10: (U.S. dollars in millions, except per-share amounts) | B10: ='Common-size FS'!B9 -> 2010 | C10: =B10+1 -> 2011 | D10: =C10+1 -> 2012 | E10: =D10+1 -> 2013 | F10: =E10+1 -> 2014 | G10: =F10+1 -> 2015
A11: Current (working capital) ratio | B11: NA | C11: =ROUND(C12/C13,1) -> 1.7 | D11: =ROUND(D12/D13,1) -> 1.7 | E11: =ROUND(E12/E13,1) -> 1.6 | F11: =ROUND(F12/F13,1) -> 1.5 | G11: =ROUND(G12/G13,1) -> 1 | I11: ='Industry Firm Ratios'!B8 -> 1.93 | J11: ='Industry Firm Ratios'!B6 -> 2 | K11: [For the Week 1 assignment, replace this text with your analysis comments. (If this is the copy of workbook you are using to complete the group project, you are not required to provide analysis comments; but, you may use this cell to record notes.)] | L11: Ratio values obtained from Industry Firm Ratios workbook tab
A12: Total current assets | B12: NA | C12: ='BS Analysis Adjustments'!AZ14 -> 6833 | D12: ='BS Analysis Adjustments'!BA14 -> 6510 | E12: ='BS Analysis Adjustments'!BB14 -> 6678 | F12: ='BS Analysis Adjustments'!BC14 -> 7033 | G12: ='BS Analysis Adjustments'!BD14 -> 4705
A13: Total current liabilities | B13: NA | C13: ='BS Analysis Adjustments'!AZ35 -> 3933 | D13: ='BS Analysis Adjustments'!BA35 -> 3752 | E13: ='BS Analysis Adjustments'!BB35 -> 4099 | F13: ='BS Analysis Adjustments'!BC35 -> 4739 | G13: ='BS Analysis Adjustments'!BD35 -> 4758
A14: Acid-test (quick) ratio | B14: NA | C14: =ROUND(C18/C19,1) -> 1 | D14: =ROUND(D18/D19,1) -> 0.9 | E14: =ROUND(E18/E19,1) -> 0.8 | F14: =ROUND(F18/F19,1) -> 0.7 | G14: =ROUND(G18/G19,1) -> 0.2 | I14: ='Industry Firm Ratios'!C8 -> 0.8 | J14: ='Industry Firm Ratios'!C6 -> 0.8 | K14: [For the Week 1 assignment, replace this text with your analysis comments. (If this is the copy of workbook you are using to complete the group project, you are not required to provide analysis comments. Of course, you may use this cell to record your notes, but the facilitator will not grade them.)] | L14: Ratio values obtained from Industry Firm Ratios workbook tab
A15: Cash and cash equivalents | B15: NA | C15: ='BS Analysis Adjustments'!AZ6 -> 1877 | D15: ='BS Analysis Adjustments'!BA6 -> 1285 | E15: ='BS Analysis Adjustments'!BB6 -> 1194 | F15: ='BS Analysis Adjustments'!BC6 -> 827 | G15: ='BS Analysis Adjustments'!BD6 -> 595
A16: Investment securities AFS (market value) | B16: NA | C16: ='BS Analysis Adjustments'!AZ7 -> 0 | D16: ='BS Analysis Adjustments'!BA7 -> 0 | E16: ='BS Analysis Adjustments'!BB7 -> 0 | F16: ='BS Analysis Adjustments'!BC7 -> 0 | G16: ='BS Analysis Adjustments'!BD7 -> 0
A17: AR, net | B17: NA | C17: ='BS Analysis Adjustments'!AZ10 -> 2033 | D17: ='BS Analysis Adjustments'!BA10 -> 2129 | E17: ='BS Analysis Adjustments'!BB10 -> 2177 | F17: ='BS Analysis Adjustments'!BC10 -> 2306 | G17: ='BS Analysis Adjustments'!BD10 -> 196
A18: Total cash-and-equivalents, invest. securities, and AR | B18: NA | C18: =SUM(C15:C17) -> 3910 | D18: =SUM(D15:D17) -> 3414 | E18: =SUM(E15:E17) -> 3371 | F18: =SUM(F15:F17) -> 3133 | G18: =SUM(G15:G17) -> 791
A19: Total current liabilities | B19: NA | C19: ='BS Analysis Adjustments'!AZ35 -> 3933 | D19: ='BS Analysis Adjustments'!BA35 -> 3752 | E19: ='BS Analysis Adjustments'!BB35 -> 4099 | F19: ='BS Analysis Adjustments'!BC35 -> 4739 | G19: ='BS Analysis Adjustments'!BD35 -> 4758
A20: Average collection period (days) (see also turnover ratio) | B20: NA | C20: =IF(C22<1,0,ROUND(C22/C24,1)) -> 67.2 | D20: =IF(D22<1,0,ROUND(D22/D24,1)) -> 61.7 | E20: =IF(E22<1,0,ROUND(E22/E24,1)) -> 61.8 | F20: =IF(F22<1,0,ROUND(F22/F24,1)) -> 59.8 | G20: =IF(G22<1,0,ROUND(G22/G24,1)) -> 31.3 | I20: =L20 -> 6.4 | J20: =AVERAGE(G20,L20:Q20) -> 8.7666667 | K20: [For the Week 1 assignment, replace this text with your analysis comments. (If this is the copy of workbook you are using to complete the group project, you are not required to provide analysis comments. Of course, you may use this cell to record your notes, but the facilitator will not grade them.)] | L20: =IF(L22<1,0,ROUND(L22/L24,1)) -> 6.4 | M20: =IF(M22<1,0,ROUND(M22/M24,1)) -> 5.6 | N20: =IF(N22<1,0,ROUND(N22/N24,1)) -> 2.8 | O20: =IF(O22<1,0,ROUND(O22/O24,1)) -> 6.5 | P20: =IF(P22<1,0,ROUND(P22/P24,1)) -> 0
A21: AR, net | B21: ='Common-size FS'!B16 -> 2026 | C21: ='BS Analysis Adjustments'!AZ10 -> 2033 | D21: ='BS Analysis Adjustments'!BA10 -> 2129 | E21: ='BS Analysis Adjustments'!BB10 -> 2177 | F21: ='BS Analysis Adjustments'!BC10 -> 2306 | G21: ='BS Analysis Adjustments'!BD10 -> 196 | L21: 282 | M21: 56868 | N21: 47138 | O21: 558 | P21: 0
A22: Average AR, net | B22: NA | C22: =ROUND(AVERAGE(B21:C21),0) -> 2030 | D22: =ROUND(AVERAGE(C21:D21),0) -> 2081 | E22: =ROUND(AVERAGE(D21:E21),0) -> 2153 | F22: =ROUND(AVERAGE(E21:F21),0) -> 2242 | G22: =ROUND(AVERAGE(F21:G21),0) -> 1251 | L22: 279 | M22: 54899 | N22: =AVERAGE(47138,56510) -> 51824 | O22: 491 | P22: 0
A23: Sales, net | B23: NA | C23: ='IS Analysis Adjustments'!AZ4 -> 10877 | D23: ='IS Analysis Adjustments'!BA4 -> 12148 | E23: ='IS Analysis Adjustments'!BB4 -> 12540 | F23: ='IS Analysis Adjustments'!BC4 -> 13506 | G23: ='IS Analysis Adjustments'!BD4 -> 14373 | L23: 15797 | M23: 3518680 | N23: 6595626 | O23: 27079 | P23: 12625
A24: Average daily sales (assume 360-day year) | B24: NA | C24: =C23/360 -> 30.213889 | D24: =D23/360 -> 33.744444 | E24: =E23/360 -> 34.833333 | F24: =F23/360 -> 37.516667 | G24: =G23/360 -> 39.925 | L24: =L23/360 -> 43.880556 | M24: =M23/360 -> 9774.1111 | N24: =N23/360 -> 18321.183 | O24: =O23/360 -> 75.219444 | P24: =P23/360 -> 35.069444 | Q24: =Q23/360 -> 0
A25: Average days to sell inventory (see also turnover ratio) | B25: NA | C25: =ROUND(C27/C29,1) -> 57.7 | D25: =ROUND(D27/D29,1) -> 60.1 | E25: =ROUND(E27/E29,1) -> 66.8 | F25: =ROUND(F27/F29,1) -> 69.2 | G25: =ROUND(G27/G29,1) -> 71.2 | I25: ='Industry Firm Ratios'!E8 -> 67.669173 | J25: ='Industry Firm Ratios'!E6 -> 103.44936 | K25: [For the Week 1 assignment, replace this text with your analysis comments. (If this is the copy of workbook you are using to complete the group project, you are not required to provide analysis comments. Of course, you may use this cell to record your notes, but the facilitator will not grade them.)] | L25: Ratio values obtained from Industry Firm Ratios workbook tab
A26: Inventory | B26: ='Common-size FS'!B17 -> 977 | C26: ='BS Analysis Adjustments'!AZ11 -> 1148 | D26: ='BS Analysis Adjustments'!BA11 -> 1360 | E26: ='BS Analysis Adjustments'!BB11 -> 1531 | F26: ='BS Analysis Adjustments'!BC11 -> 1733 | G26: ='BS Analysis Adjustments'!BD11 -> 1945
A27: Average inventory | B27: NA | C27: =ROUND(AVERAGE(B26:C26),0) -> 1063 | D27: =ROUND(AVERAGE(C26:D26),0) -> 1254 | E27: =ROUND(AVERAGE(D26:E26),0) -> 1446 | F27: =ROUND(AVERAGE(E26:F26),0) -> 1632 | G27: =ROUND(AVERAGE(F26:G26),0) -> 1839
A28: COS | B28: NA | C28: ='IS Analysis Adjustments'!AZ5 -> 6633 | D28: ='IS Analysis Adjustments'!BA5 -> 7515 | E28: ='IS Analysis Adjustments'!BB5 -> 7789 | F28: ='IS Analysis Adjustments'!BC5 -> 8490 | G28: ='IS Analysis Adjustments'!BD5 -> 9293
A29: Average daily COS (assume 360-day year) | B29: NA | C29: =C28/360 -> 18.425 | D29: =D28/360 -> 20.875 | E29: =E28/360 -> 21.636111 | F29: =F28/360 -> 23.583333 | G29: =G28/360 -> 25.813889
A30: Avg days purch in AP, accr'd liab (see also AP turnover ratio) | B30: NA | C30: =ROUND(C32/C40,1) -> 74.7 | D30: =ROUND(D32/D40,1) -> 94.5 | E30: =ROUND(E32/E40,1) -> 100.8 | F30: =ROUND(F32/F40,1) -> 103.6 | G30: =ROUND(G32/G40,1) -> 99.4 | I30: =L30 -> 56.364301 | J30: =AVERAGE(G30,L30:Q30) -> 63.827397 | K30: [For the Week 1 assignment, replace this text with your analysis comments. (If this is the copy of workbook you are using to complete the group project, you are not required to provide analysis comments. Of course, you may use this cell to record your notes, but the facilitator will not grade them.)] | L30: =L32/L40 -> 56.364301 | M30: =M32/M40 -> 46.21363 | N30: =N32/N40 -> 43.966454 | O30: =O32/O40 -> 71.777806 | P30: =P32/P40 -> 65.242189
A31: AP and accrued liabilities | B31: ='Common-size FS'!B36+'Common-size FS'!B37 -> 1221 | C31: ='BS Analysis Adjustments'!AZ27+'BS Analysis Adjustments'!AZ28 -> 2578 | D31: ='BS Analysis Adjustments'!BA27+'BS Analysis Adjustments'!BA28 -> 2844 | E31: ='BS Analysis Adjustments'!BB27+'BS Analysis Adjustments'!BB28 -> 3108 | F31: ='BS Analysis Adjustments'!BC27+'BS Analysis Adjustments'!BC28 -> 3553 | G31: ='BS Analysis Adjustments'!BD27+'BS Analysis Adjustments'!BD28 -> 3431 | L31: 2091 | M31: 405412 | N31: 691310 | O31: 4859 | P31: 1274
A32: Average AP and accrued liabilities | B32: NA | C32: =ROUND(AVERAGE(B31:C31),0) -> 1900 | D32: =ROUND(AVERAGE(C31:D31),0) -> 2711 | E32: =ROUND(AVERAGE(D31:E31),0) -> 2976 | F32: =ROUND(AVERAGE(E31:F31),0) -> 3331 | G32: =ROUND(AVERAGE(F31:G31),0) -> 3492 | L32: 2142 | M32: 414916.5 | N32: 710866 | O32: 4781 | P32: 2192.5
A33: COS and total operating expenses | B33: NA | C33: ='IS Analysis Adjustments'!AZ5+'IS Analysis Adjustments'!AZ13 -> 9600 | D33: ='IS Analysis Adjustments'!BA5+'IS Analysis Adjustments'!BA13 -> 10834 | E33: ='IS Analysis Adjustments'!BB5+'IS Analysis Adjustments'!BB13 -> 11197 | F33: ='IS Analysis Adjustments'!BC5+'IS Analysis Adjustments'!BC13 -> 12224 | G33: ='IS Analysis Adjustments'!BD5+'IS Analysis Adjustments'!BD13 -> 13383 | L33: 14273 | M33: 3445842 | N33: 6345761 | O33: 25040 | P33: 12714
A34: Less D&A [OCF section of SCF provides] | B34: NA | C34: ='IS Analysis Adjustments'!AZ11 -> 445 | D34: ='IS Analysis Adjustments'!BA11 -> 506 | E34: ='IS Analysis Adjustments'!BB11 -> 569 | F34: ='IS Analysis Adjustments'!BC11 -> 650 | G34: ='IS Analysis Adjustments'!BD11 -> 742 | L34: 592 | M34: 213680 | N34: 525147 | O34: 1061 | P34: 616
A35: Less non-cash impairment charge [from OCF section of SCF] | B35: NA | C35: 0 | D35: 0 | E35: 0 | F35: 0 | G35: 0 | L35: 0 | M35: 0 | N35: 0 | O35: 0
A36: Less non-cash restructuring charge [from OCF section of SCF] | B36: NA | C36: 0 | D36: 0 | E36: 0 | F36: 0 | G36: 0 | L36: 0 | M36: 0 | N36: 0 | O36: 0
A37: Less non-cash other charge [from OCF section of SCF] | B37: NA | C37: 0 | D37: 0 | E37: 0 | F37: 0 | G37: 0 | L37: 0 | M37: 0 | N37: 0 | O37: 0
A38: Less non-cash other charge [from OCF section of SCF] | B38: NA | C38: 0 | D38: 0 | E38: 0 | F38: 0 | G38: 0 | L38: 0 | M38: 0 | N38: 0 | O38: 0
A39: Total "cash costs" | B39: NA | C39: =C33-SUM(C34:C38) -> 9155 | D39: =D33-SUM(D34:D38) -> 10328 | E39: =E33-SUM(E34:E38) -> 10628 | F39: =F33-SUM(F34:F38) -> 11574 | G39: =G33-SUM(G34:G38) -> 12641 | L39: =L33-SUM(L34:L38) -> 13681 | M39: =M33-SUM(M34:M38) -> 3232162 | N39: =N33-SUM(N34:N38) -> 5820614 | O39: =O33-SUM(O34:O38) -> 23979 | P39: =P33-SUM(P34:P38) -> 12098 | Q39: =Q33-SUM(Q34:Q38) -> 0
A40: Average daily "cash costs" (assume 360-day year) | B40: NA | C40: =C39/360 -> 25.430556 | D40: =D39/360 -> 28.688889 | E40: =E39/360 -> 29.522222 | F40: =F39/360 -> 32.15 | G40: =G39/360 -> 35.113889 | L40: =L39/360 -> 38.002778 | M40: =M39/360 -> 8978.2278 | N40: =N39/360 -> 16168.372 | O40: =O39/360 -> 66.608333 | P40: =P39/360 -> 33.605556 | Q40: =Q39/360 -> 0
A41: Net operating cycle (days) | B41: NA | C41: =C20+C25-C30 -> 50.2 | D41: =D20+D25-D30 -> 27.3 | E41: =E20+E25-E30 -> 27.8 | F41: =F20+F25-F30 -> 25.4 | G41: =G20+G25-G30 -> 3.1 | I41: =I20+I25-I30 -> 17.704872 | J41: =J20+J25-J30 -> 48.388629
A43: CAPITAL STRUCTURE AND SOLVENCY | B43: =B9 -> Fiscal year ended (after analysis adjustments) | I43: Key Competitor ratios | J43: Industry average ratios | K43: Analysis of trend and relationship to other ratios' trends, comparisons to key competitor and industry average ratios | L43: Key Competitor | M43: =M9 -> Abercrombie & Fitch, Inc. | N43: =N9 -> Dillard's, Inc. | O43: =O9 -> Macy's Inc. | P43: =P9 -> Penney (J.C.) Co.,Inc. (Holding Co.) | Q43: =Q9 -> N/A
A44: (U.S. dollars in millions, except per-share amounts) | B44: ='Common-size FS'!B9 -> 2010 | C44: =B44+1 -> 2011 | D44: =C44+1 -> 2012 | E44: =D44+1 -> 2013 | F44: =E44+1 -> 2014 | G44: =F44+1 -> 2015
A45: Total debt-to-equity (total debt) ratio | B45: NA | C45: =ROUND(C46/C47,2) -> 4.51 | D45: =ROUND(D46/D47,2) -> 4.89 | E45: =ROUND(E46/E47,2) -> 4.9 | F45: =ROUND(F46/F47,2) -> 4.39 | G45: =ROUND(G46/G47,2) -> 12.68 | I45: ='Industry Firm Ratios'!G8 -> 0.45 | J45: ='Industry Firm Ratios'!G6 -> 1.11 | K45: [For the Week 1 assignment, replace this text with your analysis comments. (If this is the copy of workbook you are using to complete the group project, you are not required to provide analysis comments; but, you may use this cell to record notes.)] | L45: Ratio values obtained from Industry Firm Ratios workbook tab
A46: Total (current and noncurrent) liabilities and preferred stock | B46: NA | C46: ='BS Analysis Adjustments'!AZ42+'BS Analysis Adjustments'!AZ44+'BS Analysis Adjustments'!AZ45 -> 8829 | D46: ='BS Analysis Adjustments'!BA42+'BS Analysis Adjustments'!BA44+'BS Analysis Adjustments'!BA45 -> 9347 | E46: ='BS Analysis Adjustments'!BB42+'BS Analysis Adjustments'!BB44+'BS Analysis Adjustments'!BB45 -> 10184 | F46: ='BS Analysis Adjustments'!BC42+'BS Analysis Adjustments'!BC44+'BS Analysis Adjustments'!BC45 -> 10723 | G46: ='BS Analysis Adjustments'!BD42+'BS Analysis Adjustments'!BD44+'BS Analysis Adjustments'!BD45 -> 11047
...

Sheet Industry Firm Ratios
Z1: . | AA1: . | AB1: . | AC1: . | AD1: . | AE1: . | AF1: . | AG1: . | AH1: . | AI1: . | AJ1: . | AK1: . | AL1: . | AM1: . | AN1: . | AO1: . | AP1: . | AQ1: . | AR1: . | AS1: . | AT1: . | AU1: . | AV1: . | AW1: . | AX1: . | AY1: . | AZ1: .
A2: Mergent Online Comparison
A3: Industry Group Ratios - Year: | B3: ='Financial Ratios'!G10 -> 2015
A4: NAICS Code: | B4: 448140
